BEGIN:VCALENDAR
VERSION:2.0
PRODID:-//Staging 90 - ECPv6.15.20//NONSGML v1.0//EN
CALSCALE:GREGORIAN
METHOD:PUBLISH
X-ORIGINAL-URL:https://staging.aaregion90.org
X-WR-CALDESC:Évènements pour Staging 90
REFRESH-INTERVAL;VALUE=DURATION:PT1H
X-Robots-Tag:noindex
X-PUBLISHED-TTL:PT1H
BEGIN:VTIMEZONE
TZID:America/Toronto
BEGIN:DAYLIGHT
TZOFFSETFROM:-0500
TZOFFSETTO:-0400
TZNAME:EDT
DTSTART:20240310T070000
END:DAYLIGHT
BEGIN:STANDARD
TZOFFSETFROM:-0400
TZOFFSETTO:-0500
TZNAME:EST
DTSTART:20241103T060000
END:STANDARD
BEGIN:DAYLIGHT
TZOFFSETFROM:-0500
TZOFFSETTO:-0400
TZNAME:EDT
DTSTART:20250309T070000
END:DAYLIGHT
BEGIN:STANDARD
TZOFFSETFROM:-0400
TZOFFSETTO:-0500
TZNAME:EST
DTSTART:20251102T060000
END:STANDARD
BEGIN:DAYLIGHT
TZOFFSETFROM:-0500
TZOFFSETTO:-0400
TZNAME:EDT
DTSTART:20260308T070000
END:DAYLIGHT
BEGIN:STANDARD
TZOFFSETFROM:-0400
TZOFFSETTO:-0500
TZNAME:EST
DTSTART:20261101T060000
END:STANDARD
END:VTIMEZONE
BEGIN:VEVENT
DTSTART;TZID=America/Toronto:20250606T190000
DTEND;TZID=America/Toronto:20250606T210000
DTSTAMP:20260419T162219
CREATED:20241124T233954Z
LAST-MODIFIED:20241124T233954Z
UID:3751-1749236400-1749243600@staging.aaregion90.org
SUMMARY:Présidents de comité\, gr. de travail\, membres du bureau\, visiteurs
DESCRIPTION:
URL:https://staging.aaregion90.org/evenement/presidents-de-comite-gr-de-travail-membres-du-bureau-visiteurs-8/
LOCATION:Local de la région\, 282\, De Villemure\, Saint-Jérôme
CATEGORIES:Région 90
END:VEVENT
BEGIN:VEVENT
DTSTART;TZID=America/Toronto:20250607T090000
DTEND;TZID=America/Toronto:20250607T170000
DTSTAMP:20260419T162219
CREATED:20241124T234059Z
LAST-MODIFIED:20241124T234059Z
UID:3753-1749286800-1749315600@staging.aaregion90.org
SUMMARY:Comité régional
DESCRIPTION:
URL:https://staging.aaregion90.org/evenement/comite-regional-7/
LOCATION:École secondaire Laval Junior\, 2323 boul. Daniel Johnson\, Laval\, H7T 1H8
CATEGORIES:Région 90
END:VEVENT
BEGIN:VEVENT
DTSTART;TZID=America/Toronto:20250607T090000
DTEND;TZID=America/Toronto:20250607T220000
DTSTAMP:20260419T162219
CREATED:20250224T222714Z
LAST-MODIFIED:20250224T222914Z
UID:5327-1749286800-1749333600@staging.aaregion90.org
SUMMARY:Congrès 2025 du District 90-21 - Saint-Lin
DESCRIPTION:Congrès du district 21 qui aura lieu le 7 juin 2025
URL:https://staging.aaregion90.org/evenement/congres-2025-du-district-90-21-saint-lin/
CATEGORIES:Les Congrès
END:VEVENT
BEGIN:VEVENT
DTSTART;VALUE=DATE:20250613
DTEND;VALUE=DATE:20250615
DTSTAMP:20260419T162219
CREATED:20250326T165147Z
LAST-MODIFIED:20250405T043706Z
UID:5624-1749772800-1749945599@staging.aaregion90.org
SUMMARY:47e Congrès des Districts de Joliette & Lanaudière Nord
DESCRIPTION:Thème du Congrès: FORCE ET UNITÉ \nBillets en prévente: 8$ à la porte: 10$ \nKiosques d’information\n-PARTAGES\n-BALLON ROUGE\n-FAUSSES VÉRITÉS\n-DÉCOMPTE + DANSE\n-CANTINE SUR PLACE \nAvec la participation AL-Anon\nVendredi de 18h00 à 22h00\nSamedi de 9h00 à 23h00 \n 
URL:https://staging.aaregion90.org/evenement/47e-congres-des-districts-de-joliette-lanaudiere-nord/
LOCATION:916\, rue Ladouceur\, Joliette Qc\, J6E 3W7\, 916\, rue Ladouceur\, Joliette\, QC\, J6E 3W7\, Canada
CATEGORIES:District 03 de la Région 90,District 26 de la Région 90,Les Districts
END:VEVENT
BEGIN:VEVENT
DTSTART;TZID=America/Toronto:20250614T090000
DTEND;TZID=America/Toronto:20250614T160000
DTSTAMP:20260419T162219
CREATED:20240926T121521Z
LAST-MODIFIED:20241125T000532Z
UID:2295-1749891600-1749916800@staging.aaregion90.org
SUMMARY:Assemblée générale pour le Rapport de la Déléguée
DESCRIPTION:
URL:https://staging.aaregion90.org/evenement/assemblee-generale-rapport-du-delegue/
LOCATION:École secondaire Laval Junior\, 2323 boul. Daniel Johnson\, Laval\, H7T 1H8
CATEGORIES:Région 90
END:VEVENT
BEGIN:VEVENT
DTSTART;TZID=America/Toronto:20250620T190000
DTEND;TZID=America/Toronto:20250621T170000
DTSTAMP:20260419T162219
CREATED:20240926T200306Z
LAST-MODIFIED:20240926T200306Z
UID:2373-1750446000-1750525200@staging.aaregion90.org
SUMMARY:Comité inter-régional du site web
DESCRIPTION:
URL:https://staging.aaregion90.org/evenement/comite-inter-regional-du-site-web-3/
CATEGORIES:Inter-régional site web
END:VEVENT
END:VCALENDAR