BEGIN:VCALENDAR
VERSION:2.0
PRODID:-//Staging 90 - ECPv6.15.20//NONSGML v1.0//EN
CALSCALE:GREGORIAN
METHOD:PUBLISH
X-WR-CALNAME:Staging 90
X-ORIGINAL-URL:https://staging.aaregion90.org
X-WR-CALDESC:Évènements pour Staging 90
REFRESH-INTERVAL;VALUE=DURATION:PT1H
X-Robots-Tag:noindex
X-PUBLISHED-TTL:PT1H
BEGIN:VTIMEZONE
TZID:America/Toronto
BEGIN:DAYLIGHT
TZOFFSETFROM:-0500
TZOFFSETTO:-0400
TZNAME:EDT
DTSTART:20240310T070000
END:DAYLIGHT
BEGIN:STANDARD
TZOFFSETFROM:-0400
TZOFFSETTO:-0500
TZNAME:EST
DTSTART:20241103T060000
END:STANDARD
BEGIN:DAYLIGHT
TZOFFSETFROM:-0500
TZOFFSETTO:-0400
TZNAME:EDT
DTSTART:20250309T070000
END:DAYLIGHT
BEGIN:STANDARD
TZOFFSETFROM:-0400
TZOFFSETTO:-0500
TZNAME:EST
DTSTART:20251102T060000
END:STANDARD
BEGIN:DAYLIGHT
TZOFFSETFROM:-0500
TZOFFSETTO:-0400
TZNAME:EDT
DTSTART:20260308T070000
END:DAYLIGHT
BEGIN:STANDARD
TZOFFSETFROM:-0400
TZOFFSETTO:-0500
TZNAME:EST
DTSTART:20261101T060000
END:STANDARD
END:VTIMEZONE
BEGIN:VEVENT
DTSTART;TZID=America/Toronto:20250106T190000
DTEND;TZID=America/Toronto:20250106T210000
DTSTAMP:20260419T144701
CREATED:20241211T165853Z
LAST-MODIFIED:20241220T222555Z
UID:4521-1736190000-1736197200@staging.aaregion90.org
SUMMARY:Session de Partage pour les Jeunes dans AA
DESCRIPTION:Sur la plateforme de la Région 90\n\nRejoignez-nous pour une session de partage spéciale conçue pour connecter et inspirer les jeunes dans les service Alcooliques Anonymes .\n\nÀ quoi s’attendre :\n\nDiscussions ouvertes animées par des jeunes en rétablissement\nHistoires d’espoir et de persévérance\nOpportunités de se connecter avec d’autres sur le même chemin\n\nQue vous soyez nouveau dans la sobriété ou en rétablissement depuis des années\, votre voix compte. Soutenons-nous et apprenons les uns des autres dans l’esprit d’unité et de service.\n\nAu plaisir de vous y voir en grand nombre! \nParticiper à la réunion Zoom\nhttps://us02web.zoom.us/j/4045051733 \nID de réunion : 404 505 1733\nCode secret : aa90
URL:https://staging.aaregion90.org/evenement/session-de-partage-pour-les-jeunes-dans-aa/
LOCATION:Service de conférence à distance (zoom) de la Région 90
CATEGORIES:Région 90,Zoom de la Région 90
END:VEVENT
BEGIN:VEVENT
DTSTART;TZID=America/Toronto:20250112T090000
DTEND;TZID=America/Toronto:20250112T120000
DTSTAMP:20260419T144702
CREATED:20241223T150915Z
LAST-MODIFIED:20250131T123526Z
UID:4709-1736672400-1736683200@staging.aaregion90.org
SUMMARY:Séances d’information «Le rôle du RSG»
DESCRIPTION:INVITATION DU DISTRICT 90-05\nSéances d’information en visioconférence offertes par la Région 90 \nBienvenue spéciale à tous les RSG et RSGA\, et à tous les membres intéressés aux services. \nDimanche matin\,\nle 12 janvier 2025 à 9 h :\nThème «Le rôle du RSG»\, animation par la déléguée-adjointe et le vice-président. \nDimanche matin\,\nle 19 janvier 2025 à 9 h :\nThème «Le groupe des AA… là où tout commence»\, animation par la déléguée et la présidente. \n  \n  \n 
URL:https://staging.aaregion90.org/evenement/seances-dinformation-le-role-du-rsg/
LOCATION:Service de conférence à distance (zoom) de la Région 90
CATEGORIES:District 05 de la Région 90,Région 90,Zoom de la Région 90
END:VEVENT
BEGIN:VEVENT
DTSTART;TZID=America/Toronto:20250119T090000
DTEND;TZID=America/Toronto:20250119T120000
DTSTAMP:20260419T144702
CREATED:20241223T151304Z
LAST-MODIFIED:20250131T123642Z
UID:4711-1737277200-1737288000@staging.aaregion90.org
SUMMARY:Séances d’information «Le groupe des AA... là où tout commence»
DESCRIPTION:INVITATION DU DISTRICT 90-05\nSéances d’information en visioconférence offertes par la Région 90 \nBienvenue spéciale à tous les RSG et RSGA\, et à tous les membres intéressés aux services. \nDimanche matin\,\nle 19 janvier 2025 à 9 h :\nThème «Le groupe des AA… là où tout commence»\, animation par la déléguée et la présidente. \n 
URL:https://staging.aaregion90.org/evenement/seances-dinformation-le-groupe-des-aa-la-ou-tout-commence/
LOCATION:Service de conférence à distance (zoom) de la Région 90
CATEGORIES:District 05 de la Région 90,Région 90,Zoom de la Région 90
END:VEVENT
BEGIN:VEVENT
DTSTART;TZID=America/Toronto:20250124T190000
DTEND;TZID=America/Toronto:20250124T210000
DTSTAMP:20260419T144702
CREATED:20240926T121504Z
LAST-MODIFIED:20241124T224428Z
UID:2281-1737745200-1737752400@staging.aaregion90.org
SUMMARY:Partage RDR\,RDRA
DESCRIPTION:
URL:https://staging.aaregion90.org/evenement/partage-rdrrdra/
CATEGORIES:Région 90
END:VEVENT
BEGIN:VEVENT
DTSTART;TZID=America/Toronto:20250131T190000
DTEND;TZID=America/Toronto:20250131T220000
DTSTAMP:20260419T144702
CREATED:20241124T224355Z
LAST-MODIFIED:20250131T202925Z
UID:3720-1738350000-1738360800@staging.aaregion90.org
SUMMARY:Présidents de comité\, gr. de travail\, membres du bureau\, visiteurs
DESCRIPTION:
URL:https://staging.aaregion90.org/evenement/presidents-de-comite-gr-de-travail-membres-du-bureau-visiteurs-7/
LOCATION:Local de la région\, 282\, De Villemure\, Saint-Jérôme
END:VEVENT
END:VCALENDAR