BEGIN:VCALENDAR
VERSION:2.0
PRODID:-//Staging 90 - ECPv6.15.20//NONSGML v1.0//EN
CALSCALE:GREGORIAN
METHOD:PUBLISH
X-WR-CALNAME:Staging 90
X-ORIGINAL-URL:https://staging.aaregion90.org
X-WR-CALDESC:Évènements pour Staging 90
REFRESH-INTERVAL;VALUE=DURATION:PT1H
X-Robots-Tag:noindex
X-PUBLISHED-TTL:PT1H
BEGIN:VTIMEZONE
TZID:America/Toronto
BEGIN:DAYLIGHT
TZOFFSETFROM:-0500
TZOFFSETTO:-0400
TZNAME:EDT
DTSTART:20230312T070000
END:DAYLIGHT
BEGIN:STANDARD
TZOFFSETFROM:-0400
TZOFFSETTO:-0500
TZNAME:EST
DTSTART:20231105T060000
END:STANDARD
BEGIN:DAYLIGHT
TZOFFSETFROM:-0500
TZOFFSETTO:-0400
TZNAME:EDT
DTSTART:20240310T070000
END:DAYLIGHT
BEGIN:STANDARD
TZOFFSETFROM:-0400
TZOFFSETTO:-0500
TZNAME:EST
DTSTART:20241103T060000
END:STANDARD
BEGIN:DAYLIGHT
TZOFFSETFROM:-0500
TZOFFSETTO:-0400
TZNAME:EDT
DTSTART:20250309T070000
END:DAYLIGHT
BEGIN:STANDARD
TZOFFSETFROM:-0400
TZOFFSETTO:-0500
TZNAME:EST
DTSTART:20251102T060000
END:STANDARD
END:VTIMEZONE
BEGIN:VEVENT
DTSTART;TZID=America/Toronto:20241106T183000
DTEND;TZID=America/Toronto:20241106T210000
DTSTAMP:20260419T122045
CREATED:20241105T130816Z
LAST-MODIFIED:20241105T130816Z
UID:2903-1730917800-1730926800@staging.aaregion90.org
SUMMARY:Échéange de vues avec la Déléguée adjointe
DESCRIPTION:
URL:https://staging.aaregion90.org/evenement/echeange-de-vues-avec-la-deleguee-adjointe/
LOCATION:Service de conférence à distance (zoom) de la Région 90
END:VEVENT
BEGIN:VEVENT
DTSTART;TZID=America/Toronto:20241107T180000
DTEND;TZID=America/Toronto:20241107T220000
DTSTAMP:20260419T122045
CREATED:20241105T130934Z
LAST-MODIFIED:20241105T130934Z
UID:2905-1731002400-1731016800@staging.aaregion90.org
SUMMARY:Comité de finance
DESCRIPTION:
URL:https://staging.aaregion90.org/evenement/comite-de-finance/
LOCATION:Bureau de la région (voir local de la Région)
END:VEVENT
BEGIN:VEVENT
DTSTART;TZID=America/Toronto:20241107T183000
DTEND;TZID=America/Toronto:20241107T210000
DTSTAMP:20260419T122045
CREATED:20241105T131057Z
LAST-MODIFIED:20241105T131057Z
UID:2907-1731004200-1731013200@staging.aaregion90.org
SUMMARY:Rencontre RDRs / CTN
DESCRIPTION:Consultation Nouveau site Web
URL:https://staging.aaregion90.org/evenement/rencontre-rdrs-ctn/
LOCATION:Service de conférence à distance (zoom) de la Région 90
END:VEVENT
BEGIN:VEVENT
DTSTART;TZID=America/Toronto:20241108T180000
DTEND;TZID=America/Toronto:20241108T220000
DTSTAMP:20260419T122045
CREATED:20241105T131139Z
LAST-MODIFIED:20241231T135300Z
UID:2909-1731088800-1731103200@staging.aaregion90.org
SUMMARY:Réunion du Bureau Régional
DESCRIPTION:
URL:https://staging.aaregion90.org/evenement/reunion-du-bureau-3/
LOCATION:Local de la région\, 282\, De Villemure\, Saint-Jérôme
END:VEVENT
BEGIN:VEVENT
DTSTART;TZID=America/Toronto:20241109T090000
DTEND;TZID=America/Toronto:20241109T220000
DTSTAMP:20260419T122045
CREATED:20241105T131207Z
LAST-MODIFIED:20241105T131216Z
UID:2911-1731142800-1731189600@staging.aaregion90.org
SUMMARY:Congrès Centres de détention
DESCRIPTION:
URL:https://staging.aaregion90.org/evenement/congres-centres-de-detention/
LOCATION:École secondaire Laval Junior\, 2323 boul. Daniel Johnson\, Laval\, H7T 1H8
END:VEVENT
BEGIN:VEVENT
DTSTART;TZID=America/Toronto:20241112T183000
DTEND;TZID=America/Toronto:20241112T210000
DTSTAMP:20260419T122045
CREATED:20241105T131310Z
LAST-MODIFIED:20241105T131310Z
UID:2913-1731436200-1731445200@staging.aaregion90.org
SUMMARY:Rencontre Comité / CTN
DESCRIPTION:Nouveau site Web
URL:https://staging.aaregion90.org/evenement/rencontre-comite-ctn/
LOCATION:Service de conférence à distance (zoom) de la Région 90
END:VEVENT
BEGIN:VEVENT
DTSTART;TZID=America/Toronto:20241114T183000
DTEND;TZID=America/Toronto:20241114T210000
DTSTAMP:20260419T122045
CREATED:20241105T131404Z
LAST-MODIFIED:20241105T131404Z
UID:2915-1731609000-1731618000@staging.aaregion90.org
SUMMARY:Rencontre RDRs / CTN
DESCRIPTION:Nouveau site Web
URL:https://staging.aaregion90.org/evenement/rencontre-rdrs-ctn-2/
LOCATION:Service de conférence à distance (zoom) de la Région 90
END:VEVENT
BEGIN:VEVENT
DTSTART;TZID=America/Toronto:20241115T183000
DTEND;TZID=America/Toronto:20241115T210000
DTSTAMP:20260419T122045
CREATED:20241105T131455Z
LAST-MODIFIED:20241105T131455Z
UID:2917-1731695400-1731704400@staging.aaregion90.org
SUMMARY:Rencontre RDRs / CTN
DESCRIPTION:Nouveau site Web
URL:https://staging.aaregion90.org/evenement/rencontre-rdrs-ctn-3/
LOCATION:Service de conférence à distance (zoom) de la Région 90
END:VEVENT
BEGIN:VEVENT
DTSTART;TZID=America/Toronto:20241116T090000
DTEND;TZID=America/Toronto:20241116T150000
DTSTAMP:20260419T122045
CREATED:20241024T125356Z
LAST-MODIFIED:20241112T184537Z
UID:2826-1731747600-1731769200@staging.aaregion90.org
SUMMARY:La journée des Concepts
DESCRIPTION:La Région 90 présente « La journée des Concepts »\, samedi le 16 novembre 2024\, dès 9h00. \n\n\n\nUne journée de service interactif animée par Debbie L. déléguée de la Région 90 et son invité! \n\n\n\nActivité ouverte à tous les membres AA \n\n\n\n(Apportez votre dîner et votre manuel des services) \n\n\n\n2323 Daniel Johnson Laval QC
URL:https://staging.aaregion90.org/evenement/la-journee-des-concepts/
LOCATION:École secondaire Laval Junior\, 2323 boul. Daniel Johnson\, Laval\, H7T 1H8
END:VEVENT
BEGIN:VEVENT
DTSTART;TZID=America/Toronto:20241116T090000
DTEND;TZID=America/Toronto:20241116T150000
DTSTAMP:20260419T122045
CREATED:20241105T131902Z
LAST-MODIFIED:20241105T131902Z
UID:2919-1731747600-1731769200@staging.aaregion90.org
SUMMARY:Journée des Concepts
DESCRIPTION:
URL:https://staging.aaregion90.org/evenement/journee-des-concepts-2/
LOCATION:École secondaire Laval Junior\, 2323 boul. Daniel Johnson\, Laval\, H7T 1H8
END:VEVENT
BEGIN:VEVENT
DTSTART;TZID=America/Toronto:20241118T183000
DTEND;TZID=America/Toronto:20241118T230000
DTSTAMP:20260419T122045
CREATED:20241105T132006Z
LAST-MODIFIED:20241105T132006Z
UID:2921-1731954600-1731970800@staging.aaregion90.org
SUMMARY:Centres de détention
DESCRIPTION:
URL:https://staging.aaregion90.org/evenement/centres-de-detention-4/
LOCATION:Service de conférence à distance (zoom) de la Région 90
CATEGORIES:Région 90,Zoom de la Région 90
END:VEVENT
BEGIN:VEVENT
DTSTART;TZID=America/Toronto:20241119T183000
DTEND;TZID=America/Toronto:20241119T230000
DTSTAMP:20260419T122045
CREATED:20241105T132107Z
LAST-MODIFIED:20241105T132107Z
UID:2923-1732041000-1732057200@staging.aaregion90.org
SUMMARY:La Vigne - échéange de vues
DESCRIPTION:
URL:https://staging.aaregion90.org/evenement/la-vigne-echeange-de-vues-2/
LOCATION:Service de conférence à distance (zoom) de la Région 90
CATEGORIES:Région 90,Zoom de la Région 90
END:VEVENT
BEGIN:VEVENT
DTSTART;TZID=America/Toronto:20241121T183000
DTEND;TZID=America/Toronto:20241121T210000
DTSTAMP:20260419T122045
CREATED:20241105T132203Z
LAST-MODIFIED:20241105T132203Z
UID:2925-1732213800-1732222800@staging.aaregion90.org
SUMMARY:Rencontre bureau / CTN
DESCRIPTION:Nouveau site Web
URL:https://staging.aaregion90.org/evenement/rencontre-bureau-ctn/
LOCATION:Service de conférence à distance (zoom) de la Région 90
CATEGORIES:Région 90,Zoom de la Région 90
END:VEVENT
BEGIN:VEVENT
DTSTART;TZID=America/Toronto:20241122T190000
DTEND;TZID=America/Toronto:20241123T170000
DTSTAMP:20260419T122045
CREATED:20240926T195707Z
LAST-MODIFIED:20240926T195707Z
UID:2369-1732302000-1732381200@staging.aaregion90.org
SUMMARY:Comité inter-régional du site web
DESCRIPTION:Réunion technique des administrateurs de systèmes et de sites web
URL:https://staging.aaregion90.org/evenement/comite-inter-regional-du-site-web/
CATEGORIES:Inter-régional site web
END:VEVENT
BEGIN:VEVENT
DTSTART;TZID=America/Toronto:20241123T080000
DTEND;TZID=America/Toronto:20241123T170000
DTSTAMP:20260419T122045
CREATED:20241105T132241Z
LAST-MODIFIED:20241105T132241Z
UID:2927-1732348800-1732381200@staging.aaregion90.org
SUMMARY:Centres de détention
DESCRIPTION:
URL:https://staging.aaregion90.org/evenement/centres-de-detention-5/
LOCATION:Bureau de la région (voir local de la Région)
CATEGORIES:Région 90
END:VEVENT
END:VCALENDAR