BEGIN:VCALENDAR
VERSION:2.0
PRODID:-//Staging 90 - ECPv6.15.20//NONSGML v1.0//EN
CALSCALE:GREGORIAN
METHOD:PUBLISH
X-WR-CALNAME:Staging 90
X-ORIGINAL-URL:https://staging.aaregion90.org
X-WR-CALDESC:Évènements pour Staging 90
REFRESH-INTERVAL;VALUE=DURATION:PT1H
X-Robots-Tag:noindex
X-PUBLISHED-TTL:PT1H
BEGIN:VTIMEZONE
TZID:America/Toronto
BEGIN:DAYLIGHT
TZOFFSETFROM:-0500
TZOFFSETTO:-0400
TZNAME:EDT
DTSTART:20230312T070000
END:DAYLIGHT
BEGIN:STANDARD
TZOFFSETFROM:-0400
TZOFFSETTO:-0500
TZNAME:EST
DTSTART:20231105T060000
END:STANDARD
BEGIN:DAYLIGHT
TZOFFSETFROM:-0500
TZOFFSETTO:-0400
TZNAME:EDT
DTSTART:20240310T070000
END:DAYLIGHT
BEGIN:STANDARD
TZOFFSETFROM:-0400
TZOFFSETTO:-0500
TZNAME:EST
DTSTART:20241103T060000
END:STANDARD
BEGIN:DAYLIGHT
TZOFFSETFROM:-0500
TZOFFSETTO:-0400
TZNAME:EDT
DTSTART:20250309T070000
END:DAYLIGHT
BEGIN:STANDARD
TZOFFSETFROM:-0400
TZOFFSETTO:-0500
TZNAME:EST
DTSTART:20251102T060000
END:STANDARD
END:VTIMEZONE
BEGIN:VEVENT
DTSTART;TZID=America/Toronto:20240903T183000
DTEND;TZID=America/Toronto:20240903T200000
DTSTAMP:20260419T151824
CREATED:20240902T190655Z
LAST-MODIFIED:20240902T190746Z
UID:1830-1725388200-1725393600@staging.aaregion90.org
SUMMARY:Réunion de buerau
DESCRIPTION:18:30 à 20:00\nRéunion de buerau\nPlateforme numérique
URL:https://staging.aaregion90.org/evenement/reunion-de-buerau/
LOCATION:Service de conférence à distance (zoom) de la Région 90
END:VEVENT
BEGIN:VEVENT
DTSTART;TZID=America/Toronto:20240904T183000
DTEND;TZID=America/Toronto:20240904T200000
DTSTAMP:20260419T151824
CREATED:20240902T190911Z
LAST-MODIFIED:20240902T190911Z
UID:1834-1725474600-1725480000@staging.aaregion90.org
SUMMARY:Réunion Déléguée-adj
DESCRIPTION:18:30 à 20:00\nDéléguée-adj\nPlateforme numérique
URL:https://staging.aaregion90.org/evenement/reunion-deleguee-adj/
LOCATION:Service de conférence à distance (zoom) de la Région 90
END:VEVENT
BEGIN:VEVENT
DTSTART;TZID=America/Toronto:20240911T183000
DTEND;TZID=America/Toronto:20240911T210000
DTSTAMP:20260419T151824
CREATED:20240902T191049Z
LAST-MODIFIED:20240903T135728Z
UID:1836-1726079400-1726088400@staging.aaregion90.org
SUMMARY:Déléguée - Échange de vues
DESCRIPTION:18:30 à 21:00\nDéléguée – chéange de vues\nPlateforme numérique
URL:https://staging.aaregion90.org/evenement/deleguee-cheange-de-vues/
LOCATION:Service de conférence à distance (zoom) de la Région 90
END:VEVENT
BEGIN:VEVENT
DTSTART;TZID=America/Toronto:20240912T183000
DTEND;TZID=America/Toronto:20240912T220000
DTSTAMP:20260419T151824
CREATED:20240902T191157Z
LAST-MODIFIED:20240902T191157Z
UID:1838-1726165800-1726178400@staging.aaregion90.org
SUMMARY:Préparation de l'échange de vue des publications
DESCRIPTION:18:30 à 22:00\nPréparation de l’échange de\nvue des publications forme\nPlateforme numérique
URL:https://staging.aaregion90.org/evenement/preparation-de-lechange-de-vue-des-publications/
LOCATION:Service de conférence à distance (zoom) de la Région 90
END:VEVENT
BEGIN:VEVENT
DTSTART;TZID=America/Toronto:20240916T183000
DTEND;TZID=America/Toronto:20240916T230000
DTSTAMP:20260419T151824
CREATED:20240902T191239Z
LAST-MODIFIED:20240902T191239Z
UID:1840-1726511400-1726527600@staging.aaregion90.org
SUMMARY:Centres de détention
DESCRIPTION:Centres de détention\n18:30 à 23:00\nPlateforme numérique
URL:https://staging.aaregion90.org/evenement/centres-de-detention/
LOCATION:Service de conférence à distance (zoom) de la Région 90
END:VEVENT
BEGIN:VEVENT
DTSTART;TZID=America/Toronto:20240917T183000
DTEND;TZID=America/Toronto:20240917T230000
DTSTAMP:20260419T151824
CREATED:20240902T191317Z
LAST-MODIFIED:20240902T191317Z
UID:1842-1726597800-1726614000@staging.aaregion90.org
SUMMARY:La Vigne - échéange de vues
DESCRIPTION:18:30 à 23:00\nLa Vigne – échéange de vues\nPlateforme numérique
URL:https://staging.aaregion90.org/evenement/la-vigne-echeange-de-vues/
LOCATION:Service de conférence à distance (zoom) de la Région 90
END:VEVENT
BEGIN:VEVENT
DTSTART;TZID=America/Toronto:20240919T180000
DTEND;TZID=America/Toronto:20240919T220000
DTSTAMP:20260419T151824
CREATED:20240902T191442Z
LAST-MODIFIED:20240902T191442Z
UID:1846-1726768800-1726783200@staging.aaregion90.org
SUMMARY:Comité des finances
DESCRIPTION:18:00 à 22:00\nComité des finances\nBureau de la région
URL:https://staging.aaregion90.org/evenement/comite-des-finances/
LOCATION:Bureau de la région (voir local de la Région)
END:VEVENT
BEGIN:VEVENT
DTSTART;TZID=America/Toronto:20240921T080000
DTEND;TZID=America/Toronto:20240921T170000
DTSTAMP:20260419T151824
CREATED:20240902T191526Z
LAST-MODIFIED:20240902T191526Z
UID:1848-1726905600-1726938000@staging.aaregion90.org
SUMMARY:Centres de détention
DESCRIPTION:8:00 à 17:00\nCentres de détention\nBureau de la région
URL:https://staging.aaregion90.org/evenement/centres-de-detention-2/
LOCATION:Bureau de la région (voir local de la Région)
END:VEVENT
BEGIN:VEVENT
DTSTART;TZID=America/Toronto:20240926T183000
DTEND;TZID=America/Toronto:20240926T230000
DTSTAMP:20260419T151824
CREATED:20240902T191629Z
LAST-MODIFIED:20240902T191629Z
UID:1850-1727375400-1727391600@staging.aaregion90.org
SUMMARY:Information publique
DESCRIPTION:18:30 à 23:00\nInformation publique\nPlateforme numérique
URL:https://staging.aaregion90.org/evenement/information-publique/
LOCATION:Service de conférence à distance (zoom) de la Région 90
END:VEVENT
BEGIN:VEVENT
DTSTART;TZID=America/Toronto:20240927T180000
DTEND;TZID=America/Toronto:20240927T220000
DTSTAMP:20260419T151824
CREATED:20240902T191711Z
LAST-MODIFIED:20241231T135052Z
UID:1852-1727460000-1727474400@staging.aaregion90.org
SUMMARY:Réunion du Bureau Régional
DESCRIPTION:18:00 à 22:00\nRéunion du Bureau Régional\nBureau de la région
URL:https://staging.aaregion90.org/evenement/reunion-du-bureau/
LOCATION:Local de la région\, 282\, De Villemure\, Saint-Jérôme
END:VEVENT
BEGIN:VEVENT
DTSTART;TZID=America/Toronto:20240928T080000
DTEND;TZID=America/Toronto:20240928T170000
DTSTAMP:20260419T151824
CREATED:20240902T191748Z
LAST-MODIFIED:20240926T123320Z
UID:1854-1727510400-1727542800@staging.aaregion90.org
SUMMARY:Secrétariat
DESCRIPTION:8:00 à 17:00\nSecrétariat\nBureau de la région
URL:https://staging.aaregion90.org/evenement/secretariat/
LOCATION:Bureau de la région (voir local de la Région)
END:VEVENT
END:VCALENDAR