BEGIN:VCALENDAR
VERSION:2.0
PRODID:-//Staging 90 - ECPv6.15.20//NONSGML v1.0//EN
CALSCALE:GREGORIAN
METHOD:PUBLISH
X-ORIGINAL-URL:https://staging.aaregion90.org
X-WR-CALDESC:Évènements pour Staging 90
REFRESH-INTERVAL;VALUE=DURATION:PT1H
X-Robots-Tag:noindex
X-PUBLISHED-TTL:PT1H
BEGIN:VTIMEZONE
TZID:America/Toronto
BEGIN:DAYLIGHT
TZOFFSETFROM:-0500
TZOFFSETTO:-0400
TZNAME:EDT
DTSTART:20240310T070000
END:DAYLIGHT
BEGIN:STANDARD
TZOFFSETFROM:-0400
TZOFFSETTO:-0500
TZNAME:EST
DTSTART:20241103T060000
END:STANDARD
BEGIN:DAYLIGHT
TZOFFSETFROM:-0500
TZOFFSETTO:-0400
TZNAME:EDT
DTSTART:20250309T070000
END:DAYLIGHT
BEGIN:STANDARD
TZOFFSETFROM:-0400
TZOFFSETTO:-0500
TZNAME:EST
DTSTART:20251102T060000
END:STANDARD
BEGIN:DAYLIGHT
TZOFFSETFROM:-0500
TZOFFSETTO:-0400
TZNAME:EDT
DTSTART:20260308T070000
END:DAYLIGHT
BEGIN:STANDARD
TZOFFSETFROM:-0400
TZOFFSETTO:-0500
TZNAME:EST
DTSTART:20261101T060000
END:STANDARD
END:VTIMEZONE
BEGIN:VEVENT
DTSTART;TZID=America/Toronto:20251230T190000
DTEND;TZID=America/Toronto:20251230T190000
DTSTAMP:20260419T105636
CREATED:20251003T114925Z
LAST-MODIFIED:20251003T114953Z
UID:6338-1767121200-1767121200@staging.aaregion90.org
SUMMARY:Soirée de fin d’année 2025
DESCRIPTION:Vous êtes invités à venir célébrer la fin de l’année avec nous le 30 décembre prochain. \nLe souper est une formule repas partagé (potluck)\, votre nourriture est donc la bienvenue! \nRepas\, danse ainsi qu’un partage seront au rendez-vous. Dj sur place\, ambiance festive garantie. \nEntrée au coût de 10$. Gratuit pour les enfants (12 ans et moins). \nMardi le 30 décembre 2025 – 19h \nSalle Lionel-Renaud 2181\, rue de l’hôtel-de-Ville\, Sainte-Sophie\, Qc\, J5J 2V8 \n 
URL:https://staging.aaregion90.org/evenement/soiree-de-fin-dannee-2025/
LOCATION:Salle Lionel-Renaud 2181\, rue de l’hôtel-de-Ville\, Sainte-Sophie\, Qc\, J5J 2V8
CATEGORIES:District 24 de la Région 90
END:VEVENT
BEGIN:VEVENT
DTSTART;TZID=America/Toronto:20251213T090000
DTEND;TZID=America/Toronto:20251213T160000
DTSTAMP:20260419T105636
CREATED:20240926T121605Z
LAST-MODIFIED:20241125T000313Z
UID:2308-1765616400-1765641600@staging.aaregion90.org
SUMMARY:Présidents sortants et nouveaux
DESCRIPTION:
URL:https://staging.aaregion90.org/evenement/presidents-sortants-et-nouveaux/
LOCATION:Local de la région\, 282\, De Villemure\, Saint-Jérôme
CATEGORIES:Région 90
END:VEVENT
BEGIN:VEVENT
DTSTART;TZID=America/Toronto:20251206T090000
DTEND;TZID=America/Toronto:20251206T160000
DTSTAMP:20260419T105636
CREATED:20240926T121605Z
LAST-MODIFIED:20241125T000220Z
UID:2307-1765011600-1765036800@staging.aaregion90.org
SUMMARY:Comité régional
DESCRIPTION:Centre de détention\nInformation Publique\n9h00\nPublication\nComité du traitement\, accessibilité & communautés éloignées\nLa Vigne AA\nBulletin l’Héritage
URL:https://staging.aaregion90.org/evenement/comite-regional-5/
LOCATION:École secondaire Laval Junior\, 2323 boul. Daniel Johnson\, Laval\, H7T 1H8
CATEGORIES:Région 90
END:VEVENT
BEGIN:VEVENT
DTSTART;TZID=America/Toronto:20251205T190000
DTEND;TZID=America/Toronto:20251205T210000
DTSTAMP:20260419T105636
CREATED:20240926T121604Z
LAST-MODIFIED:20241125T000125Z
UID:2306-1764961200-1764968400@staging.aaregion90.org
SUMMARY:Présidents de comité\, gr. de travail\, membres du bureau\, visiteurs
DESCRIPTION:
URL:https://staging.aaregion90.org/evenement/presidents-de-comite-gr-de-travail-membres-du-bureau-visiteurs-6/
LOCATION:Local de la région\, 282\, De Villemure\, Saint-Jérôme
CATEGORIES:Région 90
END:VEVENT
BEGIN:VEVENT
DTSTART;TZID=America/Toronto:20251128T190000
DTEND;TZID=America/Toronto:20251128T210000
DTSTAMP:20260419T105636
CREATED:20240926T121551Z
LAST-MODIFIED:20250809T175610Z
UID:2305-1764356400-1764363600@staging.aaregion90.org
SUMMARY:Échanges de vue pour RDR et RDRA exclusivement
DESCRIPTION:
URL:https://staging.aaregion90.org/evenement/partage-rdr-rdra-4/
CATEGORIES:Région 90
END:VEVENT
BEGIN:VEVENT
DTSTART;TZID=America/Toronto:20251115T090000
DTEND;TZID=America/Toronto:20251115T160000
DTSTAMP:20260419T105636
CREATED:20240926T121550Z
LAST-MODIFIED:20251006T135524Z
UID:2304-1763197200-1763222400@staging.aaregion90.org
SUMMARY:Journée des Concepts
DESCRIPTION:Simultanément à Laval et à Val-d’Or \nChers serviteurs de confiance\, \nNous avons le plaisir de vous inviter à une journée de partage et de\ndécouverte sur les 12 Concepts des Services Mondiaux des AA\, qui aura\nlieu le samedi 15 novembre 2025\, simultanément à Laval et à Val-d’Or. \nCes ateliers sont ouverts à tous les membres des AA — que vous soyez\nnouvellement impliqués dans le service ou simplement curieux de mieux\ncomprendre comment fonctionne notre mouvement à travers les 12 Concepts\nqui soutiennent notre structure de service mondial. \nVenez vivre une journée remplie d’expérience\, de force et d’espoir\, où\nnous approfondirons ensemble les principes qui guident nos serviteurs de\nconfiance et assurent la transmission du message. \nTous sont les bienvenus — RSG\, RDR\, membres de comités\, et tout membre\nAA intéressé à approfondir sa compréhension du fonctionnement des AA\ndans son ensemble. \nMerci de faire circuler l’invitation dans vos groupes et districts —\nvenez nombreux vivre cette belle journée d’unité et de service! J’ai\njoint un feuillet d’information que vous pouvez partager avec les\nmembres de votre district.
URL:https://staging.aaregion90.org/evenement/journee-des-concepts/
LOCATION:École secondaire Laval Junior\, 2323 boul. Daniel Johnson\, Laval\, H7T 1H8
CATEGORIES:Région 90
END:VEVENT
BEGIN:VEVENT
DTSTART;TZID=America/Toronto:20251108T090000
DTEND;TZID=America/Toronto:20251108T160000
DTSTAMP:20260419T105636
CREATED:20240926T121550Z
LAST-MODIFIED:20250611T215621Z
UID:2303-1762592400-1762617600@staging.aaregion90.org
SUMMARY:Congrès des centres de détention
DESCRIPTION:
URL:https://staging.aaregion90.org/evenement/congres-des-centres-de-detention/
LOCATION:École secondaire Laval Junior\, 2323 boul. Daniel Johnson\, Laval\, H7T 1H8
CATEGORIES:Région 90
END:VEVENT
BEGIN:VEVENT
DTSTART;TZID=America/Toronto:20251101T090000
DTEND;TZID=America/Toronto:20251101T150000
DTSTAMP:20260419T105636
CREATED:20241124T235616Z
LAST-MODIFIED:20251003T115511Z
UID:3758-1761987600-1762009200@staging.aaregion90.org
SUMMARY:Comité inter-régional
DESCRIPTION:
URL:https://staging.aaregion90.org/evenement/comite-inter-regional-2/
CATEGORIES:Inter-régional
END:VEVENT
BEGIN:VEVENT
DTSTART;TZID=America/Toronto:20251031T190000
DTEND;TZID=America/Toronto:20251031T213000
DTSTAMP:20260419T105636
CREATED:20240926T200349Z
LAST-MODIFIED:20251003T115627Z
UID:2375-1761937200-1761946200@staging.aaregion90.org
SUMMARY:Comité inter-régional du site web
DESCRIPTION:
URL:https://staging.aaregion90.org/evenement/comite-inter-regional-du-site-web-4/
CATEGORIES:Inter-régional site web
END:VEVENT
BEGIN:VEVENT
DTSTART;TZID=America/Toronto:20251025T090000
DTEND;TZID=America/Toronto:20251025T163000
DTSTAMP:20260419T105636
CREATED:20240926T121550Z
LAST-MODIFIED:20241124T235135Z
UID:2302-1761382800-1761409800@staging.aaregion90.org
SUMMARY:Assemblée générale (Élection)
DESCRIPTION:
URL:https://staging.aaregion90.org/evenement/assemblee-generale-election/
LOCATION:École secondaire Laval Junior\, 2323 boul. Daniel Johnson\, Laval\, H7T 1H8
CATEGORIES:Région 90
END:VEVENT
BEGIN:VEVENT
DTSTART;TZID=America/Toronto:20251024T190000
DTEND;TZID=America/Toronto:20251024T210000
DTSTAMP:20260419T105636
CREATED:20240926T121549Z
LAST-MODIFIED:20241124T235059Z
UID:2301-1761332400-1761339600@staging.aaregion90.org
SUMMARY:Présidents de comité\, gr. de travail\, membres du bureau\, visiteurs
DESCRIPTION:
URL:https://staging.aaregion90.org/evenement/presidents-de-comite-gr-de-travail-membres-du-bureau-visiteurs-5/
LOCATION:Local de la région\, 282\, De Villemure\, Saint-Jérôme
CATEGORIES:Région 90
END:VEVENT
BEGIN:VEVENT
DTSTART;TZID=America/Toronto:20251004T090000
DTEND;TZID=America/Toronto:20251004T170000
DTSTAMP:20260419T105636
CREATED:20240926T121536Z
LAST-MODIFIED:20241124T234955Z
UID:2300-1759568400-1759597200@staging.aaregion90.org
SUMMARY:Comité régional (Proposition 1054)
DESCRIPTION:Réunion sera tenue à Mont-Laurier sous les hospices du District 20.
URL:https://staging.aaregion90.org/evenement/comite-regional-proposition-1054/
LOCATION:Mont Laurier\, District 20
CATEGORIES:Région 90
END:VEVENT
BEGIN:VEVENT
DTSTART;TZID=America/Toronto:20250927T090000
DTEND;TZID=America/Toronto:20250927T180000
DTSTAMP:20260419T105636
CREATED:20250410T120630Z
LAST-MODIFIED:20250410T120630Z
UID:5754-1758963600-1758996000@staging.aaregion90.org
SUMMARY:50e anniversaire de la Région 89
DESCRIPTION:Nous aimerions annoncer le 50e anniversaire de la région 89 qui se tiendra le 27 septembre 2025. \nThème : 50 ans de AA dans la Région… Gratitude et service\, notre survie ! \nCentre communautaire du Jardin\n4225 Rue des Roses\, Québec\, QC G1G 1N9 \nde 9 à 18 heures. \nAffiche de l’événement  \nHoraire de la journée \n 
URL:https://staging.aaregion90.org/evenement/50e-anniversaire-de-la-region-89/
LOCATION:4225 Rue des Roses\, Québec\, QC G1G 1N9
CATEGORIES:Région 90
END:VEVENT
BEGIN:VEVENT
DTSTART;TZID=America/Toronto:20250926T190000
DTEND;TZID=America/Toronto:20250926T210000
DTSTAMP:20260419T105636
CREATED:20240926T121536Z
LAST-MODIFIED:20250809T175623Z
UID:2299-1758913200-1758920400@staging.aaregion90.org
SUMMARY:Échanges de vue pour RDR et RDRA exclusivement
DESCRIPTION:
URL:https://staging.aaregion90.org/evenement/partage-rdr-rdra-3/
CATEGORIES:Région 90
END:VEVENT
BEGIN:VEVENT
DTSTART;VALUE=DATE:20250919
DTEND;VALUE=DATE:20250922
DTSTAMP:20260419T105636
CREATED:20250819T103703Z
LAST-MODIFIED:20250819T134832Z
UID:6225-1758240000-1758499199@staging.aaregion90.org
SUMMARY:25e Congrès Alcooliques Anonymes du District 90-22 Gatineau
DESCRIPTION:Prix billet a Ia porte: 20$\nOuverture des portes vendredi Ie 19 a 18h30\nSamedi diner BBO sur place\nSamedi soir activités spéciales \nVoir l’affiche ici. \n 
URL:https://staging.aaregion90.org/evenement/25e-congres-alcooliques-anonymes-du-district-90-22-gatineau/
LOCATION:Centre L’Escale 85 Rue Du Barry Ga2neau\,0uébec J8T3GE
CATEGORIES:District 22 de la Région 90,Les Congrès
END:VEVENT
BEGIN:VEVENT
DTSTART;TZID=America/Toronto:20250816T090000
DTEND;TZID=America/Toronto:20250817T120000
DTSTAMP:20260419T105636
CREATED:20250317T195801Z
LAST-MODIFIED:20250317T195801Z
UID:5515-1755334800-1755432000@staging.aaregion90.org
SUMMARY:50e Congrès francophone Hull – Ottawa – Aylmer
DESCRIPTION:District 05 – Congrès 2025\n  \n 
URL:https://staging.aaregion90.org/evenement/50e-congres-francophone-hull-ottawa-aylmer/
CATEGORIES:District 05 de la Région 90,Les Congrès
END:VEVENT
BEGIN:VEVENT
DTSTART;TZID=America/Toronto:20250809T090000
DTEND;TZID=America/Toronto:20250809T163000
DTSTAMP:20260419T105636
CREATED:20240926T121536Z
LAST-MODIFIED:20241124T234555Z
UID:2298-1754730000-1754757000@staging.aaregion90.org
SUMMARY:Comité régional
DESCRIPTION:
URL:https://staging.aaregion90.org/evenement/comite-regional-4/
LOCATION:École secondaire Laval Junior\, 2323 boul. Daniel Johnson\, Laval\, H7T 1H8
CATEGORIES:Région 90
END:VEVENT
BEGIN:VEVENT
DTSTART;TZID=America/Toronto:20250808T190000
DTEND;TZID=America/Toronto:20250808T190000
DTSTAMP:20260419T105636
CREATED:20240926T121535Z
LAST-MODIFIED:20240926T124934Z
UID:2297-1754679600-1754679600@staging.aaregion90.org
SUMMARY:Présidents de comité\, gr. de travail\, membres du bureau\, visiteurs
DESCRIPTION:
URL:https://staging.aaregion90.org/evenement/presidents-de-comite-gr-de-travail-membres-du-bureau-visiteurs-4/
LOCATION:Local de la région\, 282\, De Villemure\, Saint-Jérôme
CATEGORIES:Région 90
END:VEVENT
BEGIN:VEVENT
DTSTART;TZID=America/Toronto:20250801T190000
DTEND;TZID=America/Toronto:20250801T190000
DTSTAMP:20260419T105636
CREATED:20240926T121535Z
LAST-MODIFIED:20250809T175637Z
UID:2296-1754074800-1754074800@staging.aaregion90.org
SUMMARY:Échanges de vue pour RDR et RDRA exclusivement
DESCRIPTION:Cette activité est pour le bénéfice exclusif des RDR et RDRA.
URL:https://staging.aaregion90.org/evenement/partage-rdrrdra-2/
LOCATION:Service de conférence à distance (voir Service de conférence à distance (zoom) de la Région 90)\, ID=404 505 1733 mdp=aa90
CATEGORIES:Région 90
END:VEVENT
BEGIN:VEVENT
DTSTART;TZID=America/Toronto:20250620T190000
DTEND;TZID=America/Toronto:20250621T170000
DTSTAMP:20260419T105636
CREATED:20240926T200306Z
LAST-MODIFIED:20240926T200306Z
UID:2373-1750446000-1750525200@staging.aaregion90.org
SUMMARY:Comité inter-régional du site web
DESCRIPTION:
URL:https://staging.aaregion90.org/evenement/comite-inter-regional-du-site-web-3/
CATEGORIES:Inter-régional site web
END:VEVENT
BEGIN:VEVENT
DTSTART;TZID=America/Toronto:20250614T090000
DTEND;TZID=America/Toronto:20250614T160000
DTSTAMP:20260419T105636
CREATED:20240926T121521Z
LAST-MODIFIED:20241125T000532Z
UID:2295-1749891600-1749916800@staging.aaregion90.org
SUMMARY:Assemblée générale pour le Rapport de la Déléguée
DESCRIPTION:
URL:https://staging.aaregion90.org/evenement/assemblee-generale-rapport-du-delegue/
LOCATION:École secondaire Laval Junior\, 2323 boul. Daniel Johnson\, Laval\, H7T 1H8
CATEGORIES:Région 90
END:VEVENT
BEGIN:VEVENT
DTSTART;VALUE=DATE:20250613
DTEND;VALUE=DATE:20250615
DTSTAMP:20260419T105636
CREATED:20250326T165147Z
LAST-MODIFIED:20250405T043706Z
UID:5624-1749772800-1749945599@staging.aaregion90.org
SUMMARY:47e Congrès des Districts de Joliette & Lanaudière Nord
DESCRIPTION:Thème du Congrès: FORCE ET UNITÉ \nBillets en prévente: 8$ à la porte: 10$ \nKiosques d’information\n-PARTAGES\n-BALLON ROUGE\n-FAUSSES VÉRITÉS\n-DÉCOMPTE + DANSE\n-CANTINE SUR PLACE \nAvec la participation AL-Anon\nVendredi de 18h00 à 22h00\nSamedi de 9h00 à 23h00 \n 
URL:https://staging.aaregion90.org/evenement/47e-congres-des-districts-de-joliette-lanaudiere-nord/
LOCATION:916\, rue Ladouceur\, Joliette Qc\, J6E 3W7\, 916\, rue Ladouceur\, Joliette\, QC\, J6E 3W7\, Canada
CATEGORIES:District 03 de la Région 90,District 26 de la Région 90,Les Districts
END:VEVENT
BEGIN:VEVENT
DTSTART;TZID=America/Toronto:20250607T090000
DTEND;TZID=America/Toronto:20250607T220000
DTSTAMP:20260419T105636
CREATED:20250224T222714Z
LAST-MODIFIED:20250224T222914Z
UID:5327-1749286800-1749333600@staging.aaregion90.org
SUMMARY:Congrès 2025 du District 90-21 - Saint-Lin
DESCRIPTION:Congrès du district 21 qui aura lieu le 7 juin 2025
URL:https://staging.aaregion90.org/evenement/congres-2025-du-district-90-21-saint-lin/
CATEGORIES:Les Congrès
END:VEVENT
BEGIN:VEVENT
DTSTART;TZID=America/Toronto:20250607T090000
DTEND;TZID=America/Toronto:20250607T170000
DTSTAMP:20260419T105636
CREATED:20241124T234059Z
LAST-MODIFIED:20241124T234059Z
UID:3753-1749286800-1749315600@staging.aaregion90.org
SUMMARY:Comité régional
DESCRIPTION:
URL:https://staging.aaregion90.org/evenement/comite-regional-7/
LOCATION:École secondaire Laval Junior\, 2323 boul. Daniel Johnson\, Laval\, H7T 1H8
CATEGORIES:Région 90
END:VEVENT
BEGIN:VEVENT
DTSTART;TZID=America/Toronto:20250606T190000
DTEND;TZID=America/Toronto:20250606T210000
DTSTAMP:20260419T105636
CREATED:20241124T233954Z
LAST-MODIFIED:20241124T233954Z
UID:3751-1749236400-1749243600@staging.aaregion90.org
SUMMARY:Présidents de comité\, gr. de travail\, membres du bureau\, visiteurs
DESCRIPTION:
URL:https://staging.aaregion90.org/evenement/presidents-de-comite-gr-de-travail-membres-du-bureau-visiteurs-8/
LOCATION:Local de la région\, 282\, De Villemure\, Saint-Jérôme
CATEGORIES:Région 90
END:VEVENT
BEGIN:VEVENT
DTSTART;TZID=America/Toronto:20250531T090000
DTEND;TZID=America/Toronto:20250531T170000
DTSTAMP:20260419T105636
CREATED:20241124T233727Z
LAST-MODIFIED:20241224T154032Z
UID:3747-1748682000-1748710800@staging.aaregion90.org
SUMMARY:Rassemblement provincial
DESCRIPTION:À tour de rôle\, chaque région organise un Rassemblement provincial à un endroit de son choix à l’intérieur de son secteur géographique. Le rassemblement a lieu le dernier samedi de mai de chaque année.
URL:https://staging.aaregion90.org/evenement/rassemblement-provincial-2/
LOCATION:École secondaire Louis-Jacques-Casault\, 141\, boulevard Taché Est\, Montmagny\, QC\, G5V 1B9
CATEGORIES:Région 90
END:VEVENT
BEGIN:VEVENT
DTSTART;TZID=America/Toronto:20250523T190000
DTEND;TZID=America/Toronto:20250523T210000
DTSTAMP:20260419T105636
CREATED:20241124T233443Z
LAST-MODIFIED:20250809T175652Z
UID:3745-1748026800-1748034000@staging.aaregion90.org
SUMMARY:Échanges de vue pour RDR et RDRA exclusivement
DESCRIPTION:
URL:https://staging.aaregion90.org/evenement/partage-rdr-rdra-6/
CATEGORIES:Région 90
END:VEVENT
BEGIN:VEVENT
DTSTART;TZID=America/Toronto:20250427T000000
DTEND;TZID=America/Toronto:20250427T000000
DTSTAMP:20260419T105636
CREATED:20240926T121509Z
LAST-MODIFIED:20240926T124849Z
UID:2290-1745712000-1745712000@staging.aaregion90.org
SUMMARY:Conférence des Services Généraux
DESCRIPTION:
URL:https://staging.aaregion90.org/evenement/conference-des-services-generaux/
LOCATION:Hotel New York Hilton\, Midtown\, New York\, US
CATEGORIES:Région 90
END:VEVENT
BEGIN:VEVENT
DTSTART;TZID=America/Toronto:20250425T090000
DTEND;TZID=America/Toronto:20250427T130000
DTSTAMP:20260419T105636
CREATED:20250212T143004Z
LAST-MODIFIED:20250213T181736Z
UID:5241-1745571600-1745758800@staging.aaregion90.org
SUMMARY:49e Congrès des Laurentides 2025
DESCRIPTION:Thème du congrès: \nAAvec les yeux du coeur \nEndroit: \nLe Grand Lodge Mont-Tremblant\n2396 Rue Labelle\, Mont-Tremblant\, QC J8E 1T8 \nVoir la page web du District 04– Laurentides \n  \n  \n 
URL:https://staging.aaregion90.org/evenement/49e-congres-des-laurentides-2025/
CATEGORIES:District 04 de la Région 90,Les Congrès
END:VEVENT
BEGIN:VEVENT
DTSTART;TZID=America/Toronto:20250405T090000
DTEND;TZID=America/Toronto:20250405T170000
DTSTAMP:20260419T105636
CREATED:20241124T233202Z
LAST-MODIFIED:20241124T233202Z
UID:3739-1743843600-1743872400@staging.aaregion90.org
SUMMARY:Comité régional
DESCRIPTION:Centre de détention\nInformation Publique\nPublication\nComité du traitement\, accessibilité & communautés éloignées\nLa Vigne AA\nBulletin l’Héritage
URL:https://staging.aaregion90.org/evenement/comite-regional-6/
LOCATION:École secondaire Laval Junior\, 2323 boul. Daniel Johnson\, Laval\, H7T 1H8
CATEGORIES:Région 90
END:VEVENT
END:VCALENDAR