BEGIN:VCALENDAR
VERSION:2.0
PRODID:-//Staging 90 - ECPv6.15.20//NONSGML v1.0//EN
CALSCALE:GREGORIAN
METHOD:PUBLISH
X-ORIGINAL-URL:https://staging.aaregion90.org
X-WR-CALDESC:Évènements pour Staging 90
REFRESH-INTERVAL;VALUE=DURATION:PT1H
X-Robots-Tag:noindex
X-PUBLISHED-TTL:PT1H
BEGIN:VTIMEZONE
TZID:America/Toronto
BEGIN:DAYLIGHT
TZOFFSETFROM:-0500
TZOFFSETTO:-0400
TZNAME:EDT
DTSTART:20240310T070000
END:DAYLIGHT
BEGIN:STANDARD
TZOFFSETFROM:-0400
TZOFFSETTO:-0500
TZNAME:EST
DTSTART:20241103T060000
END:STANDARD
BEGIN:DAYLIGHT
TZOFFSETFROM:-0500
TZOFFSETTO:-0400
TZNAME:EDT
DTSTART:20250309T070000
END:DAYLIGHT
BEGIN:STANDARD
TZOFFSETFROM:-0400
TZOFFSETTO:-0500
TZNAME:EST
DTSTART:20251102T060000
END:STANDARD
BEGIN:DAYLIGHT
TZOFFSETFROM:-0500
TZOFFSETTO:-0400
TZNAME:EDT
DTSTART:20260308T070000
END:DAYLIGHT
BEGIN:STANDARD
TZOFFSETFROM:-0400
TZOFFSETTO:-0500
TZNAME:EST
DTSTART:20261101T060000
END:STANDARD
END:VTIMEZONE
BEGIN:VEVENT
DTSTART;VALUE=DATE:20250613
DTEND;VALUE=DATE:20250615
DTSTAMP:20260420T035530
CREATED:20250326T165147Z
LAST-MODIFIED:20250405T043706Z
UID:5624-1749772800-1749945599@staging.aaregion90.org
SUMMARY:47e Congrès des Districts de Joliette & Lanaudière Nord
DESCRIPTION:Thème du Congrès: FORCE ET UNITÉ \nBillets en prévente: 8$ à la porte: 10$ \nKiosques d’information\n-PARTAGES\n-BALLON ROUGE\n-FAUSSES VÉRITÉS\n-DÉCOMPTE + DANSE\n-CANTINE SUR PLACE \nAvec la participation AL-Anon\nVendredi de 18h00 à 22h00\nSamedi de 9h00 à 23h00 \n 
URL:https://staging.aaregion90.org/evenement/47e-congres-des-districts-de-joliette-lanaudiere-nord/
LOCATION:916\, rue Ladouceur\, Joliette Qc\, J6E 3W7\, 916\, rue Ladouceur\, Joliette\, QC\, J6E 3W7\, Canada
CATEGORIES:District 03 de la Région 90,District 26 de la Région 90,Les Districts
END:VEVENT
END:VCALENDAR