BEGIN:VCALENDAR
VERSION:2.0
PRODID:-//Staging 90 - ECPv6.15.20//NONSGML v1.0//EN
CALSCALE:GREGORIAN
METHOD:PUBLISH
X-ORIGINAL-URL:https://staging.aaregion90.org
X-WR-CALDESC:Évènements pour Staging 90
REFRESH-INTERVAL;VALUE=DURATION:PT1H
X-Robots-Tag:noindex
X-PUBLISHED-TTL:PT1H
BEGIN:VTIMEZONE
TZID:America/Toronto
BEGIN:DAYLIGHT
TZOFFSETFROM:-0500
TZOFFSETTO:-0400
TZNAME:EDT
DTSTART:20240310T070000
END:DAYLIGHT
BEGIN:STANDARD
TZOFFSETFROM:-0400
TZOFFSETTO:-0500
TZNAME:EST
DTSTART:20241103T060000
END:STANDARD
BEGIN:DAYLIGHT
TZOFFSETFROM:-0500
TZOFFSETTO:-0400
TZNAME:EDT
DTSTART:20250309T070000
END:DAYLIGHT
BEGIN:STANDARD
TZOFFSETFROM:-0400
TZOFFSETTO:-0500
TZNAME:EST
DTSTART:20251102T060000
END:STANDARD
BEGIN:DAYLIGHT
TZOFFSETFROM:-0500
TZOFFSETTO:-0400
TZNAME:EDT
DTSTART:20260308T070000
END:DAYLIGHT
BEGIN:STANDARD
TZOFFSETFROM:-0400
TZOFFSETTO:-0500
TZNAME:EST
DTSTART:20261101T060000
END:STANDARD
END:VTIMEZONE
BEGIN:VEVENT
DTSTART;TZID=America/Toronto:20250425T090000
DTEND;TZID=America/Toronto:20250427T130000
DTSTAMP:20260419T145049
CREATED:20250212T143004Z
LAST-MODIFIED:20250213T181736Z
UID:5241-1745571600-1745758800@staging.aaregion90.org
SUMMARY:49e Congrès des Laurentides 2025
DESCRIPTION:Thème du congrès: \nAAvec les yeux du coeur \nEndroit: \nLe Grand Lodge Mont-Tremblant\n2396 Rue Labelle\, Mont-Tremblant\, QC J8E 1T8 \nVoir la page web du District 04– Laurentides \n  \n  \n 
URL:https://staging.aaregion90.org/evenement/49e-congres-des-laurentides-2025/
CATEGORIES:District 04 de la Région 90,Les Congrès
END:VEVENT
END:VCALENDAR