BEGIN:VCALENDAR
VERSION:2.0
PRODID:-//Staging 90 - ECPv6.15.20//NONSGML v1.0//EN
CALSCALE:GREGORIAN
METHOD:PUBLISH
X-ORIGINAL-URL:https://staging.aaregion90.org
X-WR-CALDESC:Évènements pour Staging 90
REFRESH-INTERVAL;VALUE=DURATION:PT1H
X-Robots-Tag:noindex
X-PUBLISHED-TTL:PT1H
BEGIN:VTIMEZONE
TZID:America/Toronto
BEGIN:DAYLIGHT
TZOFFSETFROM:-0500
TZOFFSETTO:-0400
TZNAME:EDT
DTSTART:20240310T070000
END:DAYLIGHT
BEGIN:STANDARD
TZOFFSETFROM:-0400
TZOFFSETTO:-0500
TZNAME:EST
DTSTART:20241103T060000
END:STANDARD
BEGIN:DAYLIGHT
TZOFFSETFROM:-0500
TZOFFSETTO:-0400
TZNAME:EDT
DTSTART:20250309T070000
END:DAYLIGHT
BEGIN:STANDARD
TZOFFSETFROM:-0400
TZOFFSETTO:-0500
TZNAME:EST
DTSTART:20251102T060000
END:STANDARD
BEGIN:DAYLIGHT
TZOFFSETFROM:-0500
TZOFFSETTO:-0400
TZNAME:EDT
DTSTART:20260308T070000
END:DAYLIGHT
BEGIN:STANDARD
TZOFFSETFROM:-0400
TZOFFSETTO:-0500
TZNAME:EST
DTSTART:20261101T060000
END:STANDARD
END:VTIMEZONE
BEGIN:VEVENT
DTSTART;TZID=America/Toronto:20250315T090000
DTEND;TZID=America/Toronto:20250315T170000
DTSTAMP:20260419T103719
CREATED:20241124T232611Z
LAST-MODIFIED:20250305T212607Z
UID:3735-1742029200-1742058000@staging.aaregion90.org
SUMMARY:Journée Pré conférence 2025
DESCRIPTION:Sous le thème de la 75e Conférence des Services généraux\n“Travailler ensemble\, accroître la confiance“\nEn pesonne à l’École secondaire Laval Junior et également sur le service de conférence à distance Zoom : \nAccès par Zoom: \n\n404 505 1733\nmdp: aa90\n\net en une touche sur cellulaire: +14388097799 \nVoir aussi le carton d’invitation ici… \nLes documents de travail sont disponibles sur notre site :  \n→ Page de la Conférence 2025 \n\nArticles-pour-la-pre-confrence-2025-1.pdf\nRésumés des ateliers pour la pré-conférence\nDocument de contexte\, en français\, format pdf
URL:https://staging.aaregion90.org/evenement/journee-pre-conference-2/
LOCATION:École secondaire Laval Junior\, 2323 boul. Daniel Johnson\, Laval\, H7T 1H8
CATEGORIES:Région 90,Zoom de la Région 90
END:VEVENT
END:VCALENDAR