BEGIN:VCALENDAR
VERSION:2.0
PRODID:-//Staging 90 - ECPv6.15.20//NONSGML v1.0//EN
CALSCALE:GREGORIAN
METHOD:PUBLISH
X-ORIGINAL-URL:https://staging.aaregion90.org
X-WR-CALDESC:Évènements pour Staging 90
REFRESH-INTERVAL;VALUE=DURATION:PT1H
X-Robots-Tag:noindex
X-PUBLISHED-TTL:PT1H
BEGIN:VTIMEZONE
TZID:America/Toronto
BEGIN:DAYLIGHT
TZOFFSETFROM:-0500
TZOFFSETTO:-0400
TZNAME:EDT
DTSTART:20230312T070000
END:DAYLIGHT
BEGIN:STANDARD
TZOFFSETFROM:-0400
TZOFFSETTO:-0500
TZNAME:EST
DTSTART:20231105T060000
END:STANDARD
BEGIN:DAYLIGHT
TZOFFSETFROM:-0500
TZOFFSETTO:-0400
TZNAME:EDT
DTSTART:20240310T070000
END:DAYLIGHT
BEGIN:STANDARD
TZOFFSETFROM:-0400
TZOFFSETTO:-0500
TZNAME:EST
DTSTART:20241103T060000
END:STANDARD
BEGIN:DAYLIGHT
TZOFFSETFROM:-0500
TZOFFSETTO:-0400
TZNAME:EDT
DTSTART:20250309T070000
END:DAYLIGHT
BEGIN:STANDARD
TZOFFSETFROM:-0400
TZOFFSETTO:-0500
TZNAME:EST
DTSTART:20251102T060000
END:STANDARD
END:VTIMEZONE
BEGIN:VEVENT
DTSTART;TZID=America/Toronto:20241107T180000
DTEND;TZID=America/Toronto:20241107T220000
DTSTAMP:20260419T134933
CREATED:20241105T130934Z
LAST-MODIFIED:20241105T130934Z
UID:2905-1731002400-1731016800@staging.aaregion90.org
SUMMARY:Comité de finance
DESCRIPTION:
URL:https://staging.aaregion90.org/evenement/comite-de-finance/
LOCATION:Bureau de la région (voir local de la Région)
END:VEVENT
BEGIN:VEVENT
DTSTART;TZID=America/Toronto:20241107T183000
DTEND;TZID=America/Toronto:20241107T210000
DTSTAMP:20260419T134933
CREATED:20241105T131057Z
LAST-MODIFIED:20241105T131057Z
UID:2907-1731004200-1731013200@staging.aaregion90.org
SUMMARY:Rencontre RDRs / CTN
DESCRIPTION:Consultation Nouveau site Web
URL:https://staging.aaregion90.org/evenement/rencontre-rdrs-ctn/
LOCATION:Service de conférence à distance (zoom) de la Région 90
END:VEVENT
END:VCALENDAR