BEGIN:VCALENDAR
VERSION:2.0
PRODID:-//Staging 90 - ECPv6.15.20//NONSGML v1.0//EN
CALSCALE:GREGORIAN
METHOD:PUBLISH
X-WR-CALNAME:Staging 90
X-ORIGINAL-URL:https://staging.aaregion90.org
X-WR-CALDESC:Évènements pour Staging 90
REFRESH-INTERVAL;VALUE=DURATION:PT1H
X-Robots-Tag:noindex
X-PUBLISHED-TTL:PT1H
BEGIN:VTIMEZONE
TZID:America/Toronto
BEGIN:DAYLIGHT
TZOFFSETFROM:-0500
TZOFFSETTO:-0400
TZNAME:EDT
DTSTART:20230312T070000
END:DAYLIGHT
BEGIN:STANDARD
TZOFFSETFROM:-0400
TZOFFSETTO:-0500
TZNAME:EST
DTSTART:20231105T060000
END:STANDARD
BEGIN:DAYLIGHT
TZOFFSETFROM:-0500
TZOFFSETTO:-0400
TZNAME:EDT
DTSTART:20240310T070000
END:DAYLIGHT
BEGIN:STANDARD
TZOFFSETFROM:-0400
TZOFFSETTO:-0500
TZNAME:EST
DTSTART:20241103T060000
END:STANDARD
BEGIN:DAYLIGHT
TZOFFSETFROM:-0500
TZOFFSETTO:-0400
TZNAME:EDT
DTSTART:20250309T070000
END:DAYLIGHT
BEGIN:STANDARD
TZOFFSETFROM:-0400
TZOFFSETTO:-0500
TZNAME:EST
DTSTART:20251102T060000
END:STANDARD
END:VTIMEZONE
BEGIN:VEVENT
DTSTART;TZID=America/Toronto:20241024T080000
DTEND;TZID=America/Toronto:20241024T170000
DTSTAMP:20260419T151816
CREATED:20241024T125913Z
LAST-MODIFIED:20241024T125914Z
UID:2829-1729756800-1729789200@staging.aaregion90.org
SUMMARY:La journée des Concepts (Val d'Or)
DESCRIPTION:16 novembre @ 09:00 – 15:00 \n\n\n\nLa Région 90 présente « La journée des Concepts »\, samedi le 16 novembre 2024\, dès 9h00. \n\n\n\nUne journée de service interactif anime par Mélanie C. déléguée-adjointe  de la Région 90 et son invité! \n\n\n\nActivité ouverte à tous les membres AA \n\n\n\n(Apportez votre dîner et votre manuel des services) \n\n\n\n1578 Chemin Sullivan\, Val d’Or QC
URL:https://staging.aaregion90.org/evenement/la-journee-des-concepts-val-dor/
END:VEVENT
BEGIN:VEVENT
DTSTART;TZID=America/Toronto:20241024T183000
DTEND;TZID=America/Toronto:20241024T230000
DTSTAMP:20260419T151816
CREATED:20241005T103019Z
LAST-MODIFIED:20241005T103019Z
UID:2571-1729794600-1729810800@staging.aaregion90.org
SUMMARY:Information publique
DESCRIPTION:Plateforme numérique
URL:https://staging.aaregion90.org/evenement/information-publique-2/
END:VEVENT
END:VCALENDAR