BEGIN:VCALENDAR
VERSION:2.0
PRODID:-//Staging 90 - ECPv6.15.20//NONSGML v1.0//EN
CALSCALE:GREGORIAN
METHOD:PUBLISH
X-WR-CALNAME:Staging 90
X-ORIGINAL-URL:https://staging.aaregion90.org
X-WR-CALDESC:Évènements pour Staging 90
REFRESH-INTERVAL;VALUE=DURATION:PT1H
X-Robots-Tag:noindex
X-PUBLISHED-TTL:PT1H
BEGIN:VTIMEZONE
TZID:America/Toronto
BEGIN:DAYLIGHT
TZOFFSETFROM:-0500
TZOFFSETTO:-0400
TZNAME:EDT
DTSTART:20230312T070000
END:DAYLIGHT
BEGIN:STANDARD
TZOFFSETFROM:-0400
TZOFFSETTO:-0500
TZNAME:EST
DTSTART:20231105T060000
END:STANDARD
BEGIN:DAYLIGHT
TZOFFSETFROM:-0500
TZOFFSETTO:-0400
TZNAME:EDT
DTSTART:20240310T070000
END:DAYLIGHT
BEGIN:STANDARD
TZOFFSETFROM:-0400
TZOFFSETTO:-0500
TZNAME:EST
DTSTART:20241103T060000
END:STANDARD
BEGIN:DAYLIGHT
TZOFFSETFROM:-0500
TZOFFSETTO:-0400
TZNAME:EDT
DTSTART:20250309T070000
END:DAYLIGHT
BEGIN:STANDARD
TZOFFSETFROM:-0400
TZOFFSETTO:-0500
TZNAME:EST
DTSTART:20251102T060000
END:STANDARD
END:VTIMEZONE
BEGIN:VEVENT
DTSTART;TZID=America/Toronto:20241017T190000
DTEND;TZID=America/Toronto:20241017T203000
DTSTAMP:20260419T151826
CREATED:20241009T125216Z
LAST-MODIFIED:20241009T125250Z
UID:2642-1729191600-1729197000@staging.aaregion90.org
SUMMARY:Projet de questions pour les délégués régionaux concernant les communications du BSG avec les jeunes des AA.
DESCRIPTION:Bonjour à tous et toutes les membres de la Région 90 \n\n\n\nComme convenu\, j’invite TOUS les membres de la région 90 à assister à notre échange de vue concernant le: Projet de questions pour les délégués régionaux concernant les communications du BSG avec les jeunes des AA. \n\n\n\nCette session de partage aura lieu le 17 octobre 2024 de 19h à 20h30 sur la plateforme virtuelle de la région. \n\n\n\nCe dont j’ai besoin\, c’est d’avoir le point de vue de la Région sur ce sujet pour que notre voix soit entendue. \n\n\n\nParticiper à la réunion Zoomhttps://us02web.zoom.us/j/4045051733 \n\n\n\nID de réunion : 404 505 1733Code secret : aa90 \n\n\n\nUne seule touche sur l’appareil mobile+14388097799\,\,4045051733# Canada+15873281099\,\,4045051733# Canada  \n\n\n\nDebbie\, déléguée
URL:https://staging.aaregion90.org/evenement/projet-de-questions-pour-les-delegues-regionaux-concernant-les-communications-du-bsg-avec-les-jeunes-des-aa/
END:VEVENT
END:VCALENDAR