BEGIN:VCALENDAR
VERSION:2.0
PRODID:-//Staging 90 - ECPv6.15.20//NONSGML v1.0//EN
CALSCALE:GREGORIAN
METHOD:PUBLISH
X-ORIGINAL-URL:https://staging.aaregion90.org
X-WR-CALDESC:Évènements pour Staging 90
REFRESH-INTERVAL;VALUE=DURATION:PT1H
X-Robots-Tag:noindex
X-PUBLISHED-TTL:PT1H
BEGIN:VTIMEZONE
TZID:America/Toronto
BEGIN:DAYLIGHT
TZOFFSETFROM:-0500
TZOFFSETTO:-0400
TZNAME:EDT
DTSTART:20230312T070000
END:DAYLIGHT
BEGIN:STANDARD
TZOFFSETFROM:-0400
TZOFFSETTO:-0500
TZNAME:EST
DTSTART:20231105T060000
END:STANDARD
BEGIN:DAYLIGHT
TZOFFSETFROM:-0500
TZOFFSETTO:-0400
TZNAME:EDT
DTSTART:20240310T070000
END:DAYLIGHT
BEGIN:STANDARD
TZOFFSETFROM:-0400
TZOFFSETTO:-0500
TZNAME:EST
DTSTART:20241103T060000
END:STANDARD
BEGIN:DAYLIGHT
TZOFFSETFROM:-0500
TZOFFSETTO:-0400
TZNAME:EDT
DTSTART:20250309T070000
END:DAYLIGHT
BEGIN:STANDARD
TZOFFSETFROM:-0400
TZOFFSETTO:-0500
TZNAME:EST
DTSTART:20251102T060000
END:STANDARD
END:VTIMEZONE
BEGIN:VEVENT
DTSTART;TZID=America/Toronto:20240904T183000
DTEND;TZID=America/Toronto:20240904T200000
DTSTAMP:20260419T165026
CREATED:20240902T190911Z
LAST-MODIFIED:20240902T190911Z
UID:1834-1725474600-1725480000@staging.aaregion90.org
SUMMARY:Réunion Déléguée-adj
DESCRIPTION:18:30 à 20:00\nDéléguée-adj\nPlateforme numérique
URL:https://staging.aaregion90.org/evenement/reunion-deleguee-adj/
LOCATION:Service de conférence à distance (zoom) de la Région 90
END:VEVENT
END:VCALENDAR